BEGIN:VCALENDAR
VERSION:2.0
PRODID:-//Shawnee Hills Art Council - ECPv6.15.20//NONSGML v1.0//EN
CALSCALE:GREGORIAN
METHOD:PUBLISH
X-WR-CALNAME:Shawnee Hills Art Council
X-ORIGINAL-URL:https://www.shawneehillsart.com
X-WR-CALDESC:Events for Shawnee Hills Art Council
REFRESH-INTERVAL;VALUE=DURATION:PT1H
X-Robots-Tag:noindex
X-PUBLISHED-TTL:PT1H
BEGIN:VTIMEZONE
TZID:UTC
BEGIN:STANDARD
TZOFFSETFROM:+0000
TZOFFSETTO:+0000
TZNAME:UTC
DTSTART:20250101T000000
END:STANDARD
END:VTIMEZONE
BEGIN:VEVENT
DTSTART;TZID=UTC:20260406T180000
DTEND;TZID=UTC:20260406T193000
DTSTAMP:20260424T111543
CREATED:20251222T162614Z
LAST-MODIFIED:20251222T162614Z
UID:220865-1775498400-1775503800@www.shawneehillsart.com
SUMMARY:Monthly Board Meeting
DESCRIPTION:The SHAC Board of Directors will be meeting in either the Center Building or the Theater Building.  Meetings are open to the public! \nMeeting dates are subject to change at times on short notice.  If you are interested in attending or presenting a question\, comment\, or concern to the board please try to contact us prior to the date so we can get you on the agenda and be sure you have the right date.
URL:https://www.shawneehillsart.com/event/monthly-board-meeting-14/
END:VEVENT
END:VCALENDAR