BEGIN:VCALENDAR
VERSION:2.0
PRODID:-//Shawnee Hills Art Council - ECPv6.15.20//NONSGML v1.0//EN
CALSCALE:GREGORIAN
METHOD:PUBLISH
X-ORIGINAL-URL:https://www.shawneehillsart.com
X-WR-CALDESC:Events for Shawnee Hills Art Council
REFRESH-INTERVAL;VALUE=DURATION:PT1H
X-Robots-Tag:noindex
X-PUBLISHED-TTL:PT1H
BEGIN:VTIMEZONE
TZID:UTC
BEGIN:STANDARD
TZOFFSETFROM:+0000
TZOFFSETTO:+0000
TZNAME:UTC
DTSTART:20250101T000000
END:STANDARD
END:VTIMEZONE
BEGIN:VEVENT
DTSTART;TZID=UTC:20260308T080000
DTEND;TZID=UTC:20260329T170000
DTSTAMP:20260424T075412
CREATED:20260304T235818Z
LAST-MODIFIED:20260304T235818Z
UID:221071-1772956800-1774803600@www.shawneehillsart.com
SUMMARY:Spring Fever - Art Exhibit by Jan York
DESCRIPTION:Hours for viewing are Thursdays & Fridays 11-2 pm and Saturdays & Sundays from 1-3 pm.
URL:https://www.shawneehillsart.com/event/spring-fever-art-exhibit-by-jan-york/
ATTACH;FMTTYPE=image/png:https://www.shawneehillsart.com/wp-content/uploads/2026/03/Title.png
END:VEVENT
BEGIN:VEVENT
DTSTART;TZID=UTC:20260324T170000
DTEND;TZID=UTC:20260324T180000
DTSTAMP:20260424T075412
CREATED:20260302T131757Z
LAST-MODIFIED:20260302T131757Z
UID:221045-1774371600-1774375200@www.shawneehillsart.com
SUMMARY:Zumba with Amy Sturgeon
DESCRIPTION:Dance your way to fitness! \nAll fitness levels are welcome\, with no experience needed. \nBring water and good vibes. \nTuesdays & Thursdays 5-6 pm.  A suggested $5 donation per class.
URL:https://www.shawneehillsart.com/event/zumba-with-amy-sturgeon-23/
ATTACH;FMTTYPE=image/jpeg:https://www.shawneehillsart.com/wp-content/uploads/2025/12/Zumba.jpg
END:VEVENT
END:VCALENDAR