BEGIN:VCALENDAR
VERSION:2.0
PRODID:-//Shawnee Hills Art Council - ECPv6.15.20//NONSGML v1.0//EN
CALSCALE:GREGORIAN
METHOD:PUBLISH
X-ORIGINAL-URL:https://www.shawneehillsart.com
X-WR-CALDESC:Events for Shawnee Hills Art Council
REFRESH-INTERVAL;VALUE=DURATION:PT1H
X-Robots-Tag:noindex
X-PUBLISHED-TTL:PT1H
BEGIN:VTIMEZONE
TZID:UTC
BEGIN:STANDARD
TZOFFSETFROM:+0000
TZOFFSETTO:+0000
TZNAME:UTC
DTSTART:20250101T000000
END:STANDARD
END:VTIMEZONE
BEGIN:VEVENT
DTSTART;TZID=UTC:20260303T173000
DTEND;TZID=UTC:20260303T180000
DTSTAMP:20260424T075411
CREATED:20260302T131437Z
LAST-MODIFIED:20260302T131437Z
UID:221033-1772559000-1772560800@www.shawneehillsart.com
SUMMARY:Zumba with Amy Sturgeon
DESCRIPTION:Dance your way to fitness! \nAll fitness levels are welcome\, with no experience needed. \nBring water and good vibes. \nTuesdays & Thursdays 5-6 pm.  A suggested $5 donation per class.
URL:https://www.shawneehillsart.com/event/zumba-with-amy-sturgeon-17/
ATTACH;FMTTYPE=image/jpeg:https://www.shawneehillsart.com/wp-content/uploads/2025/12/Zumba.jpg
END:VEVENT
END:VCALENDAR